BEGIN:VCALENDAR
VERSION:2.0
PRODID:-//Crystal Lake Perch Lake Property Owners Association - ECPv6.15.17.1//NONSGML v1.0//EN
CALSCALE:GREGORIAN
METHOD:PUBLISH
X-WR-CALNAME:Crystal Lake Perch Lake Property Owners Association
X-ORIGINAL-URL:https://www.crystalperchlakes.com
X-WR-CALDESC:Events for Crystal Lake Perch Lake Property Owners Association
REFRESH-INTERVAL;VALUE=DURATION:PT1H
X-Robots-Tag:noindex
X-PUBLISHED-TTL:PT1H
BEGIN:VTIMEZONE
TZID:America/New_York
BEGIN:DAYLIGHT
TZOFFSETFROM:-0500
TZOFFSETTO:-0400
TZNAME:EDT
DTSTART:20250309T070000
END:DAYLIGHT
BEGIN:STANDARD
TZOFFSETFROM:-0400
TZOFFSETTO:-0500
TZNAME:EST
DTSTART:20251102T060000
END:STANDARD
BEGIN:DAYLIGHT
TZOFFSETFROM:-0500
TZOFFSETTO:-0400
TZNAME:EDT
DTSTART:20260308T070000
END:DAYLIGHT
BEGIN:STANDARD
TZOFFSETFROM:-0400
TZOFFSETTO:-0500
TZNAME:EST
DTSTART:20261101T060000
END:STANDARD
BEGIN:DAYLIGHT
TZOFFSETFROM:-0500
TZOFFSETTO:-0400
TZNAME:EDT
DTSTART:20270314T070000
END:DAYLIGHT
BEGIN:STANDARD
TZOFFSETFROM:-0400
TZOFFSETTO:-0500
TZNAME:EST
DTSTART:20271107T060000
END:STANDARD
END:VTIMEZONE
BEGIN:VEVENT
DTSTART;TZID=America/New_York:20260425T100000
DTEND;TZID=America/New_York:20260425T120000
DTSTAMP:20260423T075350
CREATED:20240821T201524Z
LAST-MODIFIED:20251027T195611Z
UID:427-1777111200-1777118400@www.crystalperchlakes.com
SUMMARY:Spring Association Meeting
DESCRIPTION:
URL:https://www.crystalperchlakes.com/event/spring-association-meeting/
LOCATION:Somerset Township
END:VEVENT
BEGIN:VEVENT
DTSTART;TZID=America/New_York:20260711T100000
DTEND;TZID=America/New_York:20260711T120000
DTSTAMP:20260423T075350
CREATED:20240821T201648Z
LAST-MODIFIED:20251027T195444Z
UID:429-1783764000-1783771200@www.crystalperchlakes.com
SUMMARY:Summer Association Meeting
DESCRIPTION:
URL:https://www.crystalperchlakes.com/event/summer-membership-meeting/
LOCATION:Somerset Township
END:VEVENT
BEGIN:VEVENT
DTSTART;TZID=America/New_York:20260711T120000
DTEND;TZID=America/New_York:20260711T140000
DTSTAMP:20260423T075350
CREATED:20240821T201828Z
LAST-MODIFIED:20251027T195417Z
UID:431-1783771200-1783778400@www.crystalperchlakes.com
SUMMARY:Summer Picnic
DESCRIPTION:
URL:https://www.crystalperchlakes.com/event/summer-membership-picnic/
LOCATION:McCourtie Park
END:VEVENT
BEGIN:VEVENT
DTSTART;TZID=America/New_York:20261003T100000
DTEND;TZID=America/New_York:20261003T120000
DTSTAMP:20260423T075350
CREATED:20251027T195027Z
LAST-MODIFIED:20251027T195100Z
UID:561-1791021600-1791028800@www.crystalperchlakes.com
SUMMARY:Fall Association Meeting
DESCRIPTION:
URL:https://www.crystalperchlakes.com/event/fall-membership-meeting/
END:VEVENT
END:VCALENDAR